BEGIN:VCALENDAR
VERSION:2.0
PRODID:-//ChamberMaster//Event Calendar 2.0//EN
METHOD:PUBLISH
X-PUBLISHED-TTL:P3D
REFRESH-INTERVAL:P3D
CALSCALE:GREGORIAN
BEGIN:VEVENT
DTSTART:20260424T153000Z
DTEND:20260424T201500Z
X-MICROSOFT-CDO-ALLDAYEVENT:FALSE
SUMMARY:Santiam Integration Spring 2026 Conference
DESCRIPTION:Are you interested in learning more about resources in our area? The SI Conference is free and will feature presentations from organizations and agencies from around Marion and Linn County. \n\n\n\nAnyone can attend!\n\n\n\nOn April 24\, 2026\, the Santiam Service Integration Program will be hosting the Santiam Integration Conference. It will be held at the Jefferson School District Offices\, in Jefferson.  \n\n\n\nThe Santiam Integration Conference is open to team members and the public. It is a great way to share resources that help when working with caseloads and to keep our community informed. More and more neighbors are stepping up to support each other\, and the more we all know\, the stronger and healthier our community becomes.  \n\n\n\nAt this time\, registration is open. If we have more than 60 registrations\, we will start a waitlist. This conference will be offered again in October with different resources.
X-ALT-DESC;FMTTYPE=text/html:<p style="margin: 0px\; font-style: normal\; font-variant-caps: normal\; font-width: normal\; font-size: 12px\; line-height: normal\; font-family: Helvetica\; font-size-adjust: none\; font-kerning: auto\; font-variant-alternates: normal\; font-variant-ligatures: normal\; font-variant-numeric: normal\; font-variant-east-asian: normal\; font-variant-position: normal\; font-variant-emoji: normal\; font-feature-settings: normal\; font-optical-sizing: auto\; font-variation-settings: normal\;">Are you interested in learning more about resources in our area? The SI Conference is free and will feature presentations from organizations and agencies from around Marion and Linn County.&nbsp\;<br />\n<br />\nAnyone can attend!<br />\n<br />\nOn April 24\, 2026\, the Santiam Service Integration Program will be hosting the Santiam Integration Conference. It will be held at the Jefferson School District Offices\, in Jefferson. &nbsp\;<br />\n<br />\nThe Santiam Integration Conference is open to team members and the public. It is a great way to share resources that help when working with caseloads and to keep our community informed. More and more neighbors are stepping up to support each other\, and the more we all know\, the stronger and healthier our community becomes. &nbsp\;<br />\n<br />\nAt this time\, registration is open. If we have more than 60 registrations\, we will start a waitlist. This conference will be offered again in October with different resources.&nbsp\;</p>\n
LOCATION:Jefferson School District Health & Resource Center 1344 N. 2nd Street Jefferson\, OR 97352
UID:e.1433.44366
SEQUENCE:3
DTSTAMP:20260421T083809Z
URL:https://business.staytonsublimitychamber.org/events/details/santiam-integration-spring-2026-conference-44366
END:VEVENT

END:VCALENDAR
