BEGIN:VCALENDAR
VERSION:2.0
PRODID:-//ChamberMaster//Event Calendar 2.0//EN
METHOD:PUBLISH
X-PUBLISHED-TTL:P3D
REFRESH-INTERVAL:P3D
CALSCALE:GREGORIAN
BEGIN:VEVENT
DTSTART:20191203T183000Z
DTEND:20191203T191500Z
X-MICROSOFT-CDO-ALLDAYEVENT:FALSE
SUMMARY:Music Class at Rising Star Studios
DESCRIPTION:We are excited to offer a new preschool music class!! \n\nTuesdays 10:30 am to 11:15 am\n\nFall Schedule November 12th through December 17th\n\n\n\nSign up online for weekly classes and pay $10 per class\n\nJust want to try it out? Sign up online for one class for $15\n\n\n10 spaces available\, see more details at the link provided
X-ALT-DESC;FMTTYPE=text/html:<p style="margin: 1em 0px\; font-family: &quot\;Helvetica Neue&quot\;\, Helvetica\, Arial\, sans-serif\; color: rgb(102\, 102\, 102)\; font-size: 12px\;">We are excited to offer a new preschool music class!!&nbsp\;</p>\n\n<p style="margin: 1em 0px 0px\; font-family: &quot\;Helvetica Neue&quot\;\, Helvetica\, Arial\, sans-serif\; color: rgb(102\, 102\, 102)\; font-size: 12px\;">Tuesdays 10:30 am to 11:15 am<br />\nFall Schedule November 12th through December 17th<br />\n<br />\nSign up online for weekly classes and pay $10 per class<br />\nJust want to try it out? Sign up online for one class for $15</p>\n\n<div class="text_exposed_show" style="display: inline\; font-family: &quot\;Helvetica Neue&quot\;\, Helvetica\, Arial\, sans-serif\; color: rgb(102\, 102\, 102)\; font-size: 12px\;">\n<p style="margin: 1em 0px 0px\; font-family: inherit\;">10 spaces available\, see more details at the link provided</p>\n</div>\n
LOCATION:
UID:e.1433.9845
SEQUENCE:3
DTSTAMP:20260420T100828Z
URL:https://business.staytonsublimitychamber.org/events/details/music-class-at-rising-star-studios-12-03-2019-9845
END:VEVENT

END:VCALENDAR
