BEGIN:VCALENDAR
VERSION:2.0
PRODID:-//ChamberMaster//Event Calendar 2.0//EN
METHOD:PUBLISH
X-PUBLISHED-TTL:P3D
REFRESH-INTERVAL:P3D
CALSCALE:GREGORIAN
BEGIN:VEVENT
DTSTART:20260422T151500Z
DTEND:20260422T161500Z
X-MICROSOFT-CDO-ALLDAYEVENT:FALSE
SUMMARY:Chamber Greeters hosted by Roth's Fresh Markets\, Stayton
DESCRIPTION:Join us for our Chamber Business Network Greeters event! This welcoming\, high-energy morning gathering is the perfect opportunity to connect with fellow business owners\, strengthen relationships\, and build new ones. Whether you're a current Chamber member or considering joining\, you'll find a supportive community ready to help you grow.\n\n\n\n  Date: April 22\, 2026\n\n  Time: 8:15 AM   9:15 AM\n\n  Location: Roth's Fresh Market   1770 Shaff Rd.\, Stayton\, OR 97383\n\nRoth's Fresh Market is a locally loved grocery store known for its exceptional customer service\, high-quality fresh foods\, and strong commitment to the communities it serves.\n\nCome ready to share\, connect\, and be inspired we look forward to seeing you there!
X-ALT-DESC;FMTTYPE=text/html:<p data-end="541" data-start="203" style="caret-color: rgb(0\, 0\, 0)\; color: rgb(0\, 0\, 0)\;">Join us for our Chamber Business Network Greeters event! This welcoming\, high-energy morning gathering is the perfect opportunity to connect with fellow business owners\, strengthen relationships\, and build new ones. Whether you&rsquo\;re a current Chamber member or considering joining\, you&rsquo\;ll find a supportive community ready to help you grow.<br />\n<br />\n<strong data-end="77" data-start="65">&#128197\; Date:</strong>&nbsp\;April 22\, 2026<br data-end="95" data-start="92" />\n<strong data-end="106" data-start="95">&#9200\; Time:</strong>&nbsp\;8:15 AM &ndash\; 9:15 AM<br data-end="127" data-start="124" />\n<strong data-end="143" data-start="127">&#128205\; Location:</strong>&nbsp\;Roth&rsquo\;s Fresh Market &ndash\; 1770 Shaff Rd.\, Stayton\, OR 97383</p>\n\n<p data-end="541" data-start="203" style="caret-color: rgb(0\, 0\, 0)\; color: rgb(0\, 0\, 0)\;">Roth&rsquo\;s Fresh Market is a locally loved grocery store known for its exceptional customer service\, high-quality fresh foods\, and strong commitment to the communities it serves.</p>\n\n<p data-end="801" data-is-last-node="" data-is-only-node="" data-start="719" style="caret-color: rgb(0\, 0\, 0)\; color: rgb(0\, 0\, 0)\;">Come ready to share\, connect\, and be inspired&mdash\;we look forward to seeing you there!</p>\n
LOCATION:1770 Shaff Rd\, Stayton
UID:e.1433.44377
SEQUENCE:3
DTSTAMP:20260419T174116Z
URL:https://business.staytonsublimitychamber.org/events/details/chamber-greeters-hosted-by-roth-s-fresh-markets-stayton-44377
END:VEVENT

END:VCALENDAR
