BEGIN:VCALENDAR
VERSION:2.0
PRODID:-//ChamberMaster//Event Calendar 2.0//EN
METHOD:PUBLISH
X-PUBLISHED-TTL:P3D
REFRESH-INTERVAL:P3D
CALSCALE:GREGORIAN
BEGIN:VEVENT
DTSTART:20260513T150000Z
DTEND:20260513T163000Z
X-MICROSOFT-CDO-ALLDAYEVENT:FALSE
SUMMARY:CBN/Greeters Doris' Place Family Building Blocks + Ribbon Cutting
DESCRIPTION:Join the Stayton Sublimity Chamber of Commerce for this week's Chamber Business Network Meeting & Ribbon Cutting Hosted by:\n\nFamily Building Blocks Doris's Place
X-ALT-DESC;FMTTYPE=text/html:<div class="xdj266r x11i5rnm xat24cr x1mh8g0r x1vvkbs" style="margin: 0px\; overflow-wrap: break-word\; font-family: system-ui\, -apple-system\, system-ui\, &quot\;.SFNSText-Regular&quot\;\, sans-serif\; font-size: 15px\;"><span style="color: rgb(5\, 5\, 5)\; font-family: arial\, sans-serif\; font-size: 13.3333px\;">Join the Stayton Sublimity Chamber of Commerce for this week&rsquo\;s Chamber Business Network Meeting &amp\; Ribbon Cutting Hosted by:<br />\nFamily Building Blocks Doris&#39\;s Place</span></div>\n
LOCATION:Family Building Blocks Doris's Place 955 E. Santiam St Stayton\, OR 97383
UID:e.1433.44380
SEQUENCE:3
DTSTAMP:20260425T222937Z
URL:https://business.staytonsublimitychamber.org/events/details/cbn-greeters-doris-place-family-building-blocks-ribbon-cutting-44380
END:VEVENT

END:VCALENDAR
