BEGIN:VCALENDAR
VERSION:2.0
PRODID:-//ChamberMaster//Event Calendar 2.0//EN
METHOD:PUBLISH
X-PUBLISHED-TTL:P3D
REFRESH-INTERVAL:P3D
CALSCALE:GREGORIAN
BEGIN:VEVENT
DTSTART:20260520T150000Z
DTEND:20260520T163000Z
X-MICROSOFT-CDO-ALLDAYEVENT:FALSE
SUMMARY:CBN/Greeters Alpaca Soft & Natural & Ribbon Cutting
DESCRIPTION:Join the Stayton Sublimity Chamber of Commerce for this week's Chamber Business Network Meeting & Ribbon Cutting Ceremony Hosted by:\n\nAlpaca Soft & Natural
X-ALT-DESC;FMTTYPE=text/html:<div class="xdj266r x11i5rnm xat24cr x1mh8g0r x1vvkbs" style="margin: 0px\; overflow-wrap: break-word\; font-family: system-ui\, -apple-system\, &quot\;system-ui&quot\;\, &quot\;.SFNSText-Regular&quot\;\, sans-serif\; color: rgb(5\, 5\, 5)\; font-size: 15px\;"><span style="font-family: arial\, sans-serif\; font-size: 13.3333px\;">Join the Stayton Sublimity Chamber of Commerce for this week&rsquo\;s Chamber Business Network Meeting &amp\; Ribbon Cutting Ceremony Hosted by:</span><br />\n<span style="caret-color: rgb(5\, 5\, 5)\; color: rgb(5\, 5\, 5)\; font-family: system-ui\, -apple-system\, system-ui\, &quot\;.SFNSText-Regular&quot\;\, sans-serif\; font-size: 15px\;">Alpaca Soft &amp\; Natural</span><span style="caret-color: rgb(5\, 5\, 5)\; color: rgb(5\, 5\, 5)\; font-family: system-ui\, -apple-system\, system-ui\, &quot\;.SFNSText-Regular&quot\;\, sans-serif\; font-size: 15px\;">&#8203\;</span></div>\n
LOCATION:Alpaca Soft & Natural 402 N. 3rd Ave. Stayton\, OR 97383
UID:e.1433.44381
SEQUENCE:3
DTSTAMP:20260425T222829Z
URL:https://business.staytonsublimitychamber.org/events/details/cbn-greeters-alpaca-soft-natural-ribbon-cutting-44381
END:VEVENT

END:VCALENDAR
